BEGIN:VCALENDAR
VERSION:2.0
PRODID:-//wp-events-plugin.com//7.0.4//EN
TZID:America/New_York
X-WR-TIMEZONE:America/New_York
BEGIN:VEVENT
UID:5416@betterkenmore.org
DTSTART;TZID=America/New_York:20260424T110000
DTEND;TZID=America/New_York:20260426T130000
DTSTAMP:20260420T124956Z
URL:https://www.betterkenmore.org/events/women-of-higher-heights/
SUMMARY:Women of Higher Heights
DESCRIPTION:https://www.facebook.com/share/1DcUuiMkGZ/\n \n\nJoin us in 2 w
 eeks for JHA’s Women of Higher Heights 3 day conference— Themed: Prais
 e Him! \n \n6pm | Friday: Praise Night with @tomifavored \n10am | Saturday
 : Main Conference with Pastor Bisi Oshikoya @rccgvictorytempleraleigh \n11
 am | Sunday: Thanksgiving Service with Pastor Bisi \n \nIt will be a time 
 of praise & worship\, empowerment\, networking\, women’s’ health talk\
 , and reaching new heights in every aspect of life through Christ as our b
 ackbone!\nDon’t miss out on this amazing time! See you April 24th-26th\,
  2026! \nThere will also be merch for purchase! \n \nRegistration to follo
 w via Eventbrite! 
LOCATION:966\, 966 Kenmore Blvd.\, Akron\, OH\, 44314\, United States
X-APPLE-STRUCTURED-LOCATION;VALUE=URI;X-ADDRESS=966 Kenmore Blvd.\, Akron\,
  OH\, 44314\, United States;X-APPLE-RADIUS=100;X-TITLE=966:geo:0,0
END:VEVENT
BEGIN:VTIMEZONE
TZID:America/New_York
X-LIC-LOCATION:America/New_York
BEGIN:DAYLIGHT
DTSTART:20260308T030000
TZOFFSETFROM:-0500
TZOFFSETTO:-0400
TZNAME:EDT
END:DAYLIGHT
END:VTIMEZONE
END:VCALENDAR