BEGIN:VCALENDAR
VERSION:2.0
PRODID:-//wp-events-plugin.com//7.0.4//EN
TZID:America/New_York
X-WR-TIMEZONE:America/New_York
BEGIN:VEVENT
UID:5426@betterkenmore.org
DTSTART;TZID=America/New_York:20260502T130000
DTEND;TZID=America/New_York:20260502T160000
DTSTAMP:20260420T125800Z
URL:https://www.betterkenmore.org/events/spring-art-show/
SUMMARY:Spring Art Show
DESCRIPTION:\nhttps://www.facebook.com/share/p/1CW32nTQuC/\n\nEvery student
  in our visual art program will have several pieces of art in this very sp
 ecial show. Refreshments will be available and items created by our art st
 udents will be on sale. All proceeds go directly back to our art program.
LOCATION:First Glance Student Center\, 943 Kenmore Blvd\, Akron\, OH\, 4413
 4\, United States
X-APPLE-STRUCTURED-LOCATION;VALUE=URI;X-ADDRESS=943 Kenmore Blvd\, Akron\, 
 OH\, 44134\, United States;X-APPLE-RADIUS=100;X-TITLE=First Glance Student
  Center:geo:0,0
END:VEVENT
BEGIN:VTIMEZONE
TZID:America/New_York
X-LIC-LOCATION:America/New_York
BEGIN:DAYLIGHT
DTSTART:20260308T030000
TZOFFSETFROM:-0500
TZOFFSETTO:-0400
TZNAME:EDT
END:DAYLIGHT
END:VTIMEZONE
END:VCALENDAR