BEGIN:VCALENDAR
VERSION:2.0
PRODID:-//wp-events-plugin.com//7.0.4//EN
TZID:America/New_York
X-WR-TIMEZONE:America/New_York
BEGIN:VEVENT
UID:5421@betterkenmore.org
DTSTART;TZID=America/New_York:20260430T183000
DTEND;TZID=America/New_York:20260430T193000
DTSTAMP:20260420T125406Z
URL:https://www.betterkenmore.org/events/sisterhood-of-serenity-2/
SUMMARY:Sisterhood of Serenity
DESCRIPTION:https://www.facebook.com/share/p/18cth7RypQ/\n\nWomen's recover
 y meeting at JADFA House. Doors at 6:30pm.
LOCATION:916 Kenmore Blvd\, 916 Kenmore Blvd\, Akron\, OH\, 44314\, USA\, U
 nited States
X-APPLE-STRUCTURED-LOCATION;VALUE=URI;X-ADDRESS=916 Kenmore Blvd\, Akron\, 
 OH\, 44314\, USA\, United States;X-APPLE-RADIUS=100;X-TITLE=916 Kenmore Bl
 vd:geo:0,0
END:VEVENT
BEGIN:VTIMEZONE
TZID:America/New_York
X-LIC-LOCATION:America/New_York
BEGIN:DAYLIGHT
DTSTART:20260308T030000
TZOFFSETFROM:-0500
TZOFFSETTO:-0400
TZNAME:EDT
END:DAYLIGHT
END:VTIMEZONE
END:VCALENDAR