BEGIN:VCALENDAR
VERSION:2.0
PRODID:-//wp-events-plugin.com//7.0.4//EN
TZID:America/New_York
X-WR-TIMEZONE:America/New_York
BEGIN:VEVENT
UID:5429@betterkenmore.org
DTSTART;TZID=America/New_York:20260502T200000
DTEND;TZID=America/New_York:20260502T230000
DTSTAMP:20260420T125924Z
URL:https://www.betterkenmore.org/events/shane-vain-the-village-vandals-di
 rty-lines-and-the-holly-cj/
SUMMARY:Shane Vain & The Village Vandals\, Dirty Lines\, and The Holly & CJ
 ...
DESCRIPTION:\nBack to Buzzbin!! Here comes the rocka-honka-tonka-punka-meta
 l-billy!! Shane Vain & The Village Vandals\, along with the Dirty Lines\, 
 and The Holly and CJ Electric Duo!!... \n\nhttps://www.facebook.com/events
 /1288300503439635/
LOCATION:Buzzbin\, Buzzbin\,  \, United States
X-APPLE-STRUCTURED-LOCATION;VALUE=URI;X-ADDRESS=Buzzbin\,  \, United States
 ;X-APPLE-RADIUS=100;X-TITLE=Buzzbin:geo:0,0
END:VEVENT
BEGIN:VTIMEZONE
TZID:America/New_York
X-LIC-LOCATION:America/New_York
BEGIN:DAYLIGHT
DTSTART:20260308T030000
TZOFFSETFROM:-0500
TZOFFSETTO:-0400
TZNAME:EDT
END:DAYLIGHT
END:VTIMEZONE
END:VCALENDAR