BEGIN:VCALENDAR
VERSION:2.0
PRODID:-//wp-events-plugin.com//7.0.4//EN
TZID:America/New_York
X-WR-TIMEZONE:America/New_York
BEGIN:VEVENT
UID:5425@betterkenmore.org
DTSTART;TZID=America/New_York:20260502T120000
DTEND;TZID=America/New_York:20260502T123000
DTSTAMP:20260420T125731Z
URL:https://www.betterkenmore.org/events/ritas-ribbon-cutting-ceremony/
SUMMARY:Rita's Ribbon Cutting Ceremony
DESCRIPTION:\nJoin us for giveaways\, samples & family fun! \n \nRibbon Cut
 ting Ceremony\nSAT. MAY 2ND AT NOON\nLocated at: Rita’s of Akron\n1060 K
 enmore Blvd. Akron\, OH\, 44314\n \nRITA’S ITALIAN ICE &\nFROZEN CUSTARD
 \n \nWith special guest\,\nMayor of Akron Shammas Malik\nIn partnership wi
 th Better Kenmore CDC
LOCATION:1060 Kenmore Blvd\, 1060 Kenmore Blvd.\, Akron\, OH\, 44314\, Unit
 ed States
X-APPLE-STRUCTURED-LOCATION;VALUE=URI;X-ADDRESS=1060 Kenmore Blvd.\, Akron\
 , OH\, 44314\, United States;X-APPLE-RADIUS=100;X-TITLE=1060 Kenmore Blvd:
 geo:0,0
END:VEVENT
BEGIN:VTIMEZONE
TZID:America/New_York
X-LIC-LOCATION:America/New_York
BEGIN:DAYLIGHT
DTSTART:20260308T030000
TZOFFSETFROM:-0500
TZOFFSETTO:-0400
TZNAME:EDT
END:DAYLIGHT
END:VTIMEZONE
END:VCALENDAR