BEGIN:VCALENDAR
VERSION:2.0
PRODID:-//wp-events-plugin.com//7.0.4//EN
TZID:America/New_York
X-WR-TIMEZONE:America/New_York
BEGIN:VEVENT
UID:5424@betterkenmore.org
DTSTART;TZID=America/New_York:20260502T100000
DTEND;TZID=America/New_York:20260502T130000
DTSTAMP:20260420T125626Z
URL:https://www.betterkenmore.org/events/reverse-raffle-breakfast-brunch-b
 uffet/
SUMMARY:Reverse Raffle Breakfast Brunch BUffet
DESCRIPTION:https://www.facebook.com/share/p/1HuG6KgA5p/\n\nStill some tick
 ets left! Make sure to grab them before they’re gone!\n \nMark your cale
 ndars for the Rider’s Reverse Raffle Brunch Buffet at the Kenmore Legion
  Post 449. Open to nonmembers. Tickets on sale now! 
LOCATION:American Legion Firestone Memorial Post 449\, 1090 Kenmore Blvd.\,
  Akron\, OH\, 44314\, United Kingdom
X-APPLE-STRUCTURED-LOCATION;VALUE=URI;X-ADDRESS=1090 Kenmore Blvd.\, Akron\
 , OH\, 44314\, United Kingdom;X-APPLE-RADIUS=100;X-TITLE=American Legion F
 irestone Memorial Post 449:geo:0,0
END:VEVENT
BEGIN:VTIMEZONE
TZID:America/New_York
X-LIC-LOCATION:America/New_York
BEGIN:DAYLIGHT
DTSTART:20260308T030000
TZOFFSETFROM:-0500
TZOFFSETTO:-0400
TZNAME:EDT
END:DAYLIGHT
END:VTIMEZONE
END:VCALENDAR