BEGIN:VCALENDAR
VERSION:2.0
PRODID:-//wp-events-plugin.com//7.0.4//EN
TZID:America/New_York
X-WR-TIMEZONE:America/New_York
BEGIN:VEVENT
UID:5427@betterkenmore.org
DTSTART;TZID=America/New_York:20260502T170000
DTEND;TZID=America/New_York:20260502T190000
DTSTAMP:20260420T125827Z
URL:https://www.betterkenmore.org/events/michelle-hall-in-the-rialto-livin
 g-room-2/
SUMMARY:Michelle Hall in The Rialto Living Room
DESCRIPTION:\nMichelle Hall is a songwriter from Pittsburgh\, Pennsylvania.
  She has written songs for over 20 years—both for herself and other arti
 sts.\n\nShe has recently started playing piano and performing her original
  songs live\, realizing the power of expression through the communal shari
 ng of lyrics and music.\n\nMichelle’s songs are in the emotional singer/
 songwriter genre—with a little country influence—which was the root of
  her songwriting for the first 15 years.\n\nGet to the show early for Dinn
 er and Drinks in The Rialto Living Room - Opening at 5:00pm!\n\nShowtime: 
  5:00pm \n\nhttps://www.facebook.com/events/1226324392767713/
LOCATION:1000 Kenmore Blvd\, Akron\, OH 44314\, USA\, United States
X-APPLE-STRUCTURED-LOCATION;VALUE=URI;X-ADDRESS=Akron\, OH 44314\, USA\, Un
 ited States;X-APPLE-RADIUS=100;X-TITLE=1000 Kenmore Blvd:geo:0,0
END:VEVENT
BEGIN:VTIMEZONE
TZID:America/New_York
X-LIC-LOCATION:America/New_York
BEGIN:DAYLIGHT
DTSTART:20260308T030000
TZOFFSETFROM:-0500
TZOFFSETTO:-0400
TZNAME:EDT
END:DAYLIGHT
END:VTIMEZONE
END:VCALENDAR