BEGIN:VCALENDAR
VERSION:2.0
PRODID:-//wp-events-plugin.com//7.0.4//EN
TZID:America/New_York
X-WR-TIMEZONE:America/New_York
BEGIN:VEVENT
UID:5432@betterkenmore.org
DTSTART;TZID=America/New_York:20260505T183000
DTEND;TZID=America/New_York:20260505T210000
DTSTAMP:20260420T130123Z
URL:https://www.betterkenmore.org/events/irish-jam-session-26/
SUMMARY:Irish Jam Session!
DESCRIPTION:\nAn old Irish session with a new home The Gordon Shaffer Irish
  Session started more than 25 years ago at The Ancient Order of Hibernians
  at 941 Kenmore Blvd. After years away we are returning to Kenmore at The 
 Rialto Theatre. This "jam" session welcomes Irish musicians from all over 
 northeast Ohio and beyond. Come to listen or come to play. Lots of fun tun
 es and great people. All skill levels welcome.\n\nIf your not wanting to p
 erform\, come enjoy some Irish Jams!\n\nShowtime:  6:30pm \n\nhttps://www.
 facebook.com/events/2092670297804928/?event_time_id=2092670327804925
LOCATION:1000 Kenmore Blvd\, Akron\, OH 44314\, USA\, United States
X-APPLE-STRUCTURED-LOCATION;VALUE=URI;X-ADDRESS=Akron\, OH 44314\, USA\, Un
 ited States;X-APPLE-RADIUS=100;X-TITLE=1000 Kenmore Blvd:geo:0,0
END:VEVENT
BEGIN:VTIMEZONE
TZID:America/New_York
X-LIC-LOCATION:America/New_York
BEGIN:DAYLIGHT
DTSTART:20260308T030000
TZOFFSETFROM:-0500
TZOFFSETTO:-0400
TZNAME:EDT
END:DAYLIGHT
END:VTIMEZONE
END:VCALENDAR