BEGIN:VCALENDAR
VERSION:2.0
PRODID:-//wp-events-plugin.com//7.0.4//EN
TZID:America/New_York
X-WR-TIMEZONE:America/New_York
BEGIN:VEVENT
UID:5428@betterkenmore.org
DTSTART;TZID=America/New_York:20260502T190000
DTEND;TZID=America/New_York:20260502T223000
DTSTAMP:20260420T125855Z
URL:https://www.betterkenmore.org/events/future-perfect-album-release-part
 y-special-guests-beezy-douglas-an/
SUMMARY:Future Perfect Album Release Party Special Guests Beezy Douglas an.
 ..
DESCRIPTION:\nGet to the show early for Dinner and Drinks in The Rialto Liv
 ing Room - Opening at 5:00pm!\n\nDoors:  7:00pm / Showtime:  7:30pm \n\nAg
 e Requirement: There is a $5 surcharge for anyone under the age of 21 to b
 e paid at the door. \n\nhttps://www.facebook.com/events/1421884338913484/
LOCATION:1000 Kenmore Blvd\, Akron\, OH 44314\, USA\, United States
X-APPLE-STRUCTURED-LOCATION;VALUE=URI;X-ADDRESS=Akron\, OH 44314\, USA\, Un
 ited States;X-APPLE-RADIUS=100;X-TITLE=1000 Kenmore Blvd:geo:0,0
END:VEVENT
BEGIN:VTIMEZONE
TZID:America/New_York
X-LIC-LOCATION:America/New_York
BEGIN:DAYLIGHT
DTSTART:20260308T030000
TZOFFSETFROM:-0500
TZOFFSETTO:-0400
TZNAME:EDT
END:DAYLIGHT
END:VTIMEZONE
END:VCALENDAR