BEGIN:VCALENDAR
VERSION:2.0
PRODID:-//wp-events-plugin.com//7.0.4//EN
TZID:America/New_York
X-WR-TIMEZONE:America/New_York
BEGIN:VEVENT
UID:5422@betterkenmore.org
DTSTART;TZID=America/New_York:20260430T190000
DTEND;TZID=America/New_York:20260430T220000
DTSTAMP:20260420T125436Z
URL:https://www.betterkenmore.org/events/folk-punk-night-ft-when-september
 -ends-miguel-cafe/
SUMMARY:FOLK PUNK NIGHT FT. When September Ends / Miguel Cafe’ /...
DESCRIPTION:When September Ends\n\nWhen September Ends is Northeast Ohio’
 s premier (and possibly only) semi-acoustic Green Day tribute band. Formed
  after singer-songwriter Noah Gittell met bassist James Wenstrup and drumm
 er Dylan Brown at a Cleveland open mic night\, the trio quickly bonded ove
 r their shared love of the Bay Area punk legends.\n\nSwapping Green Day’
 s signature distortion for an acoustic approach\, When September Ends reve
 als a chiller\, more melodic side of the band’s catalog—blending in el
 ements of blues\, jazz\, and folk while staying true to the spirit of pop-
 punk. With strong musicianship and a playful sense of humor\, When Septemb
 er Ends is poised to become a staple of the Northeast Ohio music scene for
  years to come\n\nMiguel Cafe’\n\nDon Beck \n\nGet to the show early for
  Dinner and Drinks in The Rialto Living Room - Opening at 5:00pm!\n\nDoors
 :  7:00pm / Showtime:  7:30pm \n\nAge Requirement: There is a $5 surcharge
  for anyone under the age of 21 to be paid at the door. \n\n\nhttps://www.
 facebook.com/events/3322214357942147/
LOCATION:1000 Kenmore Blvd\, Akron\, OH 44314\, USA\, United States
X-APPLE-STRUCTURED-LOCATION;VALUE=URI;X-ADDRESS=Akron\, OH 44314\, USA\, Un
 ited States;X-APPLE-RADIUS=100;X-TITLE=1000 Kenmore Blvd:geo:0,0
END:VEVENT
BEGIN:VTIMEZONE
TZID:America/New_York
X-LIC-LOCATION:America/New_York
BEGIN:DAYLIGHT
DTSTART:20260308T030000
TZOFFSETFROM:-0500
TZOFFSETTO:-0400
TZNAME:EDT
END:DAYLIGHT
END:VTIMEZONE
END:VCALENDAR